BEGIN:VCALENDAR
VERSION:2.0
PRODID:-//WA Poets Inc - ECPv6.15.20//NONSGML v1.0//EN
CALSCALE:GREGORIAN
METHOD:PUBLISH
X-WR-CALNAME:WA Poets Inc
X-ORIGINAL-URL:https://wapoets.com
X-WR-CALDESC:Events for WA Poets Inc
REFRESH-INTERVAL;VALUE=DURATION:PT1H
X-Robots-Tag:noindex
X-PUBLISHED-TTL:PT1H
BEGIN:VTIMEZONE
TZID:Australia/Perth
BEGIN:STANDARD
TZOFFSETFROM:+0800
TZOFFSETTO:+0800
TZNAME:AWST
DTSTART:20210101T000000
END:STANDARD
END:VTIMEZONE
BEGIN:VEVENT
DTSTART;TZID=Australia/Perth:20220119T080000
DTEND;TZID=Australia/Perth:20220201T170000
DTSTAMP:20260422T163929
CREATED:20220119T043454Z
LAST-MODIFIED:20220119T043454Z
UID:9029-1642579200-1643734800@wapoets.com
SUMMARY:The Marten Bequest
DESCRIPTION:The Marten Bequest Scholarships offer talented young artists the chance to explore\, study and develop their artistic gifts through travelling either interstate and/or overseas.
URL:https://wapoets.com/event/the-marten-bequest/
CATEGORIES:Opportunities
END:VEVENT
BEGIN:VEVENT
DTSTART;TZID=Australia/Perth:20220119T080000
DTEND;TZID=Australia/Perth:20220201T170000
DTSTAMP:20260422T163929
CREATED:20220119T043225Z
LAST-MODIFIED:20220119T043225Z
UID:9024-1642579200-1643734800@wapoets.com
SUMMARY:Slinkies 2022
DESCRIPTION:Slinkies is looking for writing under 10\,000 words of any genre\, from writers aged under 30\, \nDo you battle with Millennial Fatigue? Symptoms include a generalised sense of impending doom about our planet whilst at the same time tuning it out entirely to focus on what really matters… why does this person’s Instagram feed horrify me to my very core\, yet I keep going back to see what the hell they’ve done now? It’s okay\, you might just be Under 30! \nAnd congratulations\, that qualifies you to use your creative energy to enter our writing competition.
URL:https://wapoets.com/event/slinkies-2022/
CATEGORIES:Competitions
END:VEVENT
BEGIN:VEVENT
DTSTART;TZID=Australia/Perth:20220119T080000
DTEND;TZID=Australia/Perth:20220201T170000
DTSTAMP:20260422T163929
CREATED:20220119T042813Z
LAST-MODIFIED:20220119T042813Z
UID:9022-1642579200-1643734800@wapoets.com
SUMMARY:Silver Tree Poetry Competition
DESCRIPTION:
URL:https://wapoets.com/event/silver-tree-poetry-competition-2/
CATEGORIES:Competitions
ORGANIZER;CN="Under the Silver Tree Cooperative Bookshop":MAILTO:UTSTwritingcompetition@gmail.com
END:VEVENT
BEGIN:VEVENT
DTSTART;TZID=Australia/Perth:20220119T080000
DTEND;TZID=Australia/Perth:20220131T170000
DTSTAMP:20260422T163929
CREATED:20220119T042147Z
LAST-MODIFIED:20220119T042147Z
UID:9017-1642579200-1643648400@wapoets.com
SUMMARY:Blue Bottle Poetry Online
DESCRIPTION:Our bi-monthly submissions are currently OPEN for the month of January\, closing again on January 31st
URL:https://wapoets.com/event/blue-bottle-poetry-online/
CATEGORIES:Opportunities
END:VEVENT
BEGIN:VEVENT
DTSTART;TZID=Australia/Perth:20220119T080000
DTEND;TZID=Australia/Perth:20220131T170000
DTSTAMP:20260422T163929
CREATED:20220119T041956Z
LAST-MODIFIED:20220119T041956Z
UID:9015-1642579200-1643648400@wapoets.com
SUMMARY:Margaret River Readers and Writers Festival Appearance EOI
DESCRIPTION:
URL:https://wapoets.com/event/margaret-river-readers-and-writers-festival-appearance-eoi-3/
CATEGORIES:Opportunities
END:VEVENT
BEGIN:VEVENT
DTSTART;TZID=Australia/Perth:20220119T080000
DTEND;TZID=Australia/Perth:20220131T170000
DTSTAMP:20260422T163929
CREATED:20220119T041425Z
LAST-MODIFIED:20220119T041425Z
UID:9012-1642579200-1643648400@wapoets.com
SUMMARY:Aha haiku Awards
DESCRIPTION:
URL:https://wapoets.com/event/aha-haiku-awards-3/
CATEGORIES:Competitions
END:VEVENT
BEGIN:VEVENT
DTSTART;TZID=Australia/Perth:20220119T080000
DTEND;TZID=Australia/Perth:20220131T170000
DTSTAMP:20260422T163929
CREATED:20220119T040940Z
LAST-MODIFIED:20220119T040940Z
UID:9008-1642579200-1643648400@wapoets.com
SUMMARY:The Pocketry Almanack\, Issue 5
DESCRIPTION:You can submit poems on any theme but please no:racism\, homophobia\, swearing\, pornographic descriptions of sex or violence etc. \nPoems can be in any language as long as they are submitted\nwith an accurate English language translation.Your unpublished poetry or original artwork will be published in the Pocketry Almanack\, on the Pocketry Presents podcast and your bio and headshot will appear on Pocketry’s website and social media accounts. \nFor more information\, please read the FAQ carefully before submitting your work.
URL:https://wapoets.com/event/the-pocketry-almanack-issue-5/
CATEGORIES:Opportunities
ORGANIZER;CN="Pocketry":MAILTO:hello @ indraniperera . com.
END:VEVENT
BEGIN:VEVENT
DTSTART;TZID=Australia/Perth:20220119T080000
DTEND;TZID=Australia/Perth:20220124T170000
DTSTAMP:20260422T163929
CREATED:20220119T040250Z
LAST-MODIFIED:20220119T040250Z
UID:9006-1642579200-1643043600@wapoets.com
SUMMARY:Baby Teeth Journal
DESCRIPTION:
URL:https://wapoets.com/event/baby-teeth-journal-3/
CATEGORIES:Opportunities
END:VEVENT
BEGIN:VEVENT
DTSTART;TZID=Australia/Perth:20220119T080000
DTEND;TZID=Australia/Perth:20220119T170000
DTSTAMP:20260422T163929
CREATED:20220119T054731Z
LAST-MODIFIED:20220119T054731Z
UID:9079-1642579200-1642611600@wapoets.com
SUMMARY:Book Launch: Iceland is Melting and So Are You by Talya Rubin
DESCRIPTION:
URL:https://wapoets.com/event/book-launch-iceland-is-melting-and-so-are-you-by-talya-rubin/
LOCATION:Rabble Books & Games\, 46 Eighth Avenue\,#2\, Maylands\, WA\, \,6051\, Australia
CATEGORIES:Upcoming Events
END:VEVENT
BEGIN:VEVENT
DTSTART;TZID=Australia/Perth:20220115T140000
DTEND;TZID=Australia/Perth:20220115T160000
DTSTAMP:20260422T163929
CREATED:20220110T084950Z
LAST-MODIFIED:20220110T084950Z
UID:8765-1642255200-1642262400@wapoets.com
SUMMARY:Perth Poetry Club
DESCRIPTION:Featuring Peter Jeffrey + Sonya Frossine + open mic \nThe link to the Zoom meeting will be different from last year’s\, and we will try and keep this link for the full year – but please always check the latest entry on our website\, email-out and Facebook
URL:https://wapoets.com/event/perth-poetry-club/
LOCATION:The Moon Cafe\, 323 William Street\, Northbridge\, WA\, Australia
CATEGORIES:Upcoming Events
END:VEVENT
BEGIN:VEVENT
DTSTART;TZID=Australia/Perth:20220113T100000
DTEND;TZID=Australia/Perth:20220113T120000
DTSTAMP:20260422T163929
CREATED:20220110T090728Z
LAST-MODIFIED:20220110T090803Z
UID:8773-1642068000-1642075200@wapoets.com
SUMMARY:Writers at the Farm
DESCRIPTION:Let’s get writing! Are you keen to share the beautiful space at Perth City Farm with some other wordsmiths? Join us for some quiet writing time\, some prompts\, some chats and maybe a sneaky coffee and wander through the farm. \nSuitable for writers of all kinds\, at any stage of their writing journey. Bring your writing materials and your creative vibes. \nPerth City Farm is a working not-for-profit permaculture farm. If you can\, please make a donation of your choice at the start of the session to support the Farm’s work. There’s a cafe on site for you to buy a coffee or snack from or BYO. If you’d like to wander through the garden bring a hat and wear sunscreen. \nBe aware the parking around City Farm is quite limited – consider taking public transport. \nFree event\, but please RSVP via the link so we know to expect you. \nThis is part of the Community Education Hub project\, kindly supported by City of Perth and Lotterywest.
URL:https://wapoets.com/event/writers-at-the-farm/
LOCATION:City Farm\, 1 City Farm Place\, East Perth\, WA\, 6004
CATEGORIES:Workshops
END:VEVENT
BEGIN:VEVENT
DTSTART;TZID=Australia/Perth:20220113T080000
DTEND;TZID=Australia/Perth:20220202T170000
DTSTAMP:20260422T163929
CREATED:20220113T120704Z
LAST-MODIFIED:20220113T120704Z
UID:8929-1642060800-1643821200@wapoets.com
SUMMARY:black&write! Writing Fellowships
DESCRIPTION:Each year black&write! offers two Fellowships for unpublished manuscripts by Aboriginal and/or Torres Strait Islander writers. \nThe winning Fellows work closely with black&write! editors to develop their manuscripts for publication. We are proud to work with our publishing partner\, Hachette Australia
URL:https://wapoets.com/event/blackwrite-writing-fellowships/
CATEGORIES:Opportunities
END:VEVENT
BEGIN:VEVENT
DTSTART;TZID=Australia/Perth:20220113T080000
DTEND;TZID=Australia/Perth:20220201T170000
DTSTAMP:20260422T163929
CREATED:20220113T121125Z
LAST-MODIFIED:20220113T121125Z
UID:8933-1642060800-1643734800@wapoets.com
SUMMARY:The Marten Bequest Scholarship
DESCRIPTION:The Marten Bequest Scholarships offer talented young artists the chance to explore\, study and develop their artistic gifts through travelling either interstate and/or overseas. \nThe scholarships provide financial support under the categories acting\, architecture\, ballet\, instrumental music\, painting\, poetry\, prose\, sculpture and singing to help talented Australian artists achieve their dreams. \nScholarships are each worth $50\,000\, payable in quarterly instalments over two years.
URL:https://wapoets.com/event/the-marten-bequest-scholarship/
CATEGORIES:Opportunities
END:VEVENT
BEGIN:VEVENT
DTSTART;TZID=Australia/Perth:20220113T080000
DTEND;TZID=Australia/Perth:20220201T170000
DTSTAMP:20260422T163929
CREATED:20220113T115919Z
LAST-MODIFIED:20220113T115919Z
UID:8926-1642060800-1643734800@wapoets.com
SUMMARY:Silver Tree Poetry Competition
DESCRIPTION:
URL:https://wapoets.com/event/silver-tree-poetry-competition/
CATEGORIES:Competitions
ORGANIZER;CN="Under the Silver Tree Cooperative Bookshop":MAILTO:UTSTwritingcompetition@gmail.com
END:VEVENT
BEGIN:VEVENT
DTSTART;TZID=Australia/Perth:20220113T080000
DTEND;TZID=Australia/Perth:20220131T170000
DTSTAMP:20260422T163929
CREATED:20220113T113937Z
LAST-MODIFIED:20220113T114006Z
UID:8924-1642060800-1643648400@wapoets.com
SUMMARY:The Saltbush Review
DESCRIPTION:
URL:https://wapoets.com/event/the-saltbush-review-2/
CATEGORIES:Opportunities
END:VEVENT
BEGIN:VEVENT
DTSTART;TZID=Australia/Perth:20220113T080000
DTEND;TZID=Australia/Perth:20220131T170000
DTSTAMP:20260422T163929
CREATED:20220113T113755Z
LAST-MODIFIED:20220113T113755Z
UID:8921-1642060800-1643648400@wapoets.com
SUMMARY:Blue Bottle Poetry Online Journal
DESCRIPTION:Our bi-monthly submissions are currently OPEN for the month of January\, closing again on January 31st
URL:https://wapoets.com/event/blue-bottle-poetry-online-journal-2/
CATEGORIES:Opportunities
END:VEVENT
BEGIN:VEVENT
DTSTART;TZID=Australia/Perth:20220113T080000
DTEND;TZID=Australia/Perth:20220131T170000
DTSTAMP:20260422T163929
CREATED:20220113T113425Z
LAST-MODIFIED:20220113T113507Z
UID:8919-1642060800-1643648400@wapoets.com
SUMMARY:Margaret River Readers and Writers Festival Appearance EOI
DESCRIPTION:
URL:https://wapoets.com/event/margaret-river-readers-and-writers-festival-appearance-eoi-2/
CATEGORIES:Opportunities
END:VEVENT
BEGIN:VEVENT
DTSTART;TZID=Australia/Perth:20220113T080000
DTEND;TZID=Australia/Perth:20220131T170000
DTSTAMP:20260422T163929
CREATED:20220113T113210Z
LAST-MODIFIED:20220113T113210Z
UID:8917-1642060800-1643648400@wapoets.com
SUMMARY:Aha haiku Awards
DESCRIPTION:
URL:https://wapoets.com/event/aha-haiku-awards-2/
END:VEVENT
BEGIN:VEVENT
DTSTART;TZID=Australia/Perth:20220113T080000
DTEND;TZID=Australia/Perth:20220124T170000
DTSTAMP:20260422T163929
CREATED:20220113T112904Z
LAST-MODIFIED:20220113T112904Z
UID:8915-1642060800-1643043600@wapoets.com
SUMMARY:Baby Teeth Journal
DESCRIPTION:
URL:https://wapoets.com/event/baby-teeth-journal-2/
END:VEVENT
BEGIN:VEVENT
DTSTART;TZID=Australia/Perth:20220113T080000
DTEND;TZID=Australia/Perth:20220117T170000
DTSTAMP:20260422T163929
CREATED:20220113T112720Z
LAST-MODIFIED:20220113T112720Z
UID:8913-1642060800-1642438800@wapoets.com
SUMMARY:The South Coast Writers Centre 2022 Poetry Award
DESCRIPTION:Theme: Ways to Water
URL:https://wapoets.com/event/the-south-coast-writers-centre-2022-poetry-award-2/
CATEGORIES:Competitions
END:VEVENT
BEGIN:VEVENT
DTSTART;TZID=Australia/Perth:20220113T080000
DTEND;TZID=Australia/Perth:20220117T170000
DTSTAMP:20260422T163929
CREATED:20220113T112356Z
LAST-MODIFIED:20220113T112356Z
UID:8910-1642060800-1642438800@wapoets.com
SUMMARY:Anne Elder Award
DESCRIPTION:The award is named after Australian poet\, Anne Elder (1918-1976)\, and is for a sole-authored first book of poetry of 20-minimum pages in length\, published in Australia. \nBooks published between 1 January 2021 and 31 December 2021 are eligible for entry into the 2021 Anne Elder Award
URL:https://wapoets.com/event/anne-elder-award-2/
CATEGORIES:Competitions
END:VEVENT
BEGIN:VEVENT
DTSTART;TZID=Australia/Perth:20220113T080000
DTEND;TZID=Australia/Perth:20220116T170000
DTSTAMP:20260422T163929
CREATED:20220113T111725Z
LAST-MODIFIED:20220113T111725Z
UID:8906-1642060800-1642352400@wapoets.com
SUMMARY:2022 Kat Muskat Fellowship
DESCRIPTION:The fellowship offers professional development up to the value of $5\,000 for an editorial project or work of writing by a young person of an underrepresented gender
URL:https://wapoets.com/event/2022-kat-muskat-fellowship-2/
CATEGORIES:Competitions
END:VEVENT
BEGIN:VEVENT
DTSTART;TZID=Australia/Perth:20220113T080000
DTEND;TZID=Australia/Perth:20220115T170000
DTSTAMP:20260422T163929
CREATED:20220113T111233Z
LAST-MODIFIED:20220113T111233Z
UID:8903-1642060800-1642266000@wapoets.com
SUMMARY:Rattle Chapbook Prize
DESCRIPTION:
URL:https://wapoets.com/event/rattle-chapbook-prize-2/
CATEGORIES:Competitions
END:VEVENT
BEGIN:VEVENT
DTSTART;TZID=Australia/Perth:20220112T080000
DTEND;TZID=Australia/Perth:20220131T170000
DTSTAMP:20260422T163929
CREATED:20220112T074443Z
LAST-MODIFIED:20220112T074443Z
UID:8856-1641974400-1643648400@wapoets.com
SUMMARY:The Saltbush Review
DESCRIPTION:
URL:https://wapoets.com/event/the-saltbush-review/
CATEGORIES:Competitions
END:VEVENT
BEGIN:VEVENT
DTSTART;TZID=Australia/Perth:20220112T080000
DTEND;TZID=Australia/Perth:20220131T170000
DTSTAMP:20260422T163929
CREATED:20220112T073949Z
LAST-MODIFIED:20220112T073949Z
UID:8852-1641974400-1643648400@wapoets.com
SUMMARY:Blue Bottle Poetry Online Journal
DESCRIPTION:Our bi-monthly submissions are currently OPEN for the month of January\, closing again on January 31st
URL:https://wapoets.com/event/blue-bottle-poetry-online-journal/
CATEGORIES:Competitions
END:VEVENT
BEGIN:VEVENT
DTSTART;TZID=Australia/Perth:20220112T080000
DTEND;TZID=Australia/Perth:20220131T170000
DTSTAMP:20260422T163929
CREATED:20220112T073647Z
LAST-MODIFIED:20220112T073647Z
UID:8846-1641974400-1643648400@wapoets.com
SUMMARY:Margaret River Readers and Writers Festival Appearance EOI
DESCRIPTION:
URL:https://wapoets.com/event/margaret-river-readers-and-writers-festival-appearance-eoi/
CATEGORIES:Opportunities
END:VEVENT
BEGIN:VEVENT
DTSTART;TZID=Australia/Perth:20220112T080000
DTEND;TZID=Australia/Perth:20220124T170000
DTSTAMP:20260422T163929
CREATED:20220112T072853Z
LAST-MODIFIED:20220112T072853Z
UID:8838-1641974400-1643043600@wapoets.com
SUMMARY:Baby Teeth Journal
DESCRIPTION:
URL:https://wapoets.com/event/baby-teeth-journal/
CATEGORIES:Competitions
END:VEVENT
BEGIN:VEVENT
DTSTART;TZID=Australia/Perth:20220112T080000
DTEND;TZID=Australia/Perth:20220117T170000
DTSTAMP:20260422T163929
CREATED:20220112T072603Z
LAST-MODIFIED:20220112T072603Z
UID:8834-1641974400-1642438800@wapoets.com
SUMMARY:The South Coast Writers Centre 2022 Poetry Award
DESCRIPTION:Theme: Ways to Water
URL:https://wapoets.com/event/the-south-coast-writers-centre-2022-poetry-award/
CATEGORIES:Competitions
END:VEVENT
BEGIN:VEVENT
DTSTART;TZID=Australia/Perth:20220112T080000
DTEND;TZID=Australia/Perth:20220117T170000
DTSTAMP:20260422T163929
CREATED:20220112T072308Z
LAST-MODIFIED:20220112T072308Z
UID:8830-1641974400-1642438800@wapoets.com
SUMMARY:Anne Elder Award
DESCRIPTION:The award is named after Australian poet\, Anne Elder (1918-1976)\, and is for a sole-authored first book of poetry of 20-minimum pages in length\, published in Australia. \nBooks published between 1 January 2021 and 31 December 2021 are eligible for entry into the 2021 Anne Elder Award
URL:https://wapoets.com/event/anne-elder-award/
CATEGORIES:Competitions
END:VEVENT
BEGIN:VEVENT
DTSTART;TZID=Australia/Perth:20220112T080000
DTEND;TZID=Australia/Perth:20220117T170000
DTSTAMP:20260422T163929
CREATED:20220112T071846Z
LAST-MODIFIED:20220112T071846Z
UID:8826-1641974400-1642438800@wapoets.com
SUMMARY:2022 Kat Muskat Fellowship
DESCRIPTION:The fellowship offers professional development up to the value of $5\,000 for an editorial project or work of writing by a young person of an underrepresented gender
URL:https://wapoets.com/event/2022-kat-muskat-fellowship/
CATEGORIES:Competitions
END:VEVENT
END:VCALENDAR